BEGIN:VCALENDAR
VERSION:2.0
PRODID:icalendar-ruby
CALSCALE:GREGORIAN
METHOD:PUBLISH
BEGIN:VEVENT
DTSTAMP:20260424T233520Z
UID:15-337665@familyofchrist.com
DTSTART:20261022T004000Z
DTEND:20261022T014000Z
CLASS:PUBLIC
CREATED:20260424T155459
DESCRIPTION:All 9th - 12th graders are invited to join us Wednesday nights 
 for a time of fun\, discoery\, and faith. This year we will be concentrati
 ng on becoming better leaders and people of God. \nPeer Ministry gives yo
 uth the relational leadership skills to know how to listen\, care\, help\,
  when to seek help\, welcome\, and the very skills needed to love every ne
 ighbor. The skills to be a real friend. Each week we will play some games\
 , get to know ourselves and God\, and how we are a part of a community.
LAST-MODIFIED:20260424T155459
LOCATION:10970 185th Street West\, Lakeville\, MN 55044
SUMMARY:Youth Group
URL;VALUE=URI:https://www.familyofchrist.com/events/youth-group/2026-10-21
ATTACH;FILENAME=Peer-Ministry-Leadership.png;FMTTYPE=image/png:https://dq5p
 wpg1q8ru0.cloudfront.net/2025/08/26/18/52/17/f6b9f896-aeb0-4a51-bac8-b5bdb
 bcadf71/Peer-Ministry-Leadership.png
END:VEVENT
END:VCALENDAR
